BEGIN:VCALENDAR
VERSION:2.0
PRODID:-//Library Market//iCal Export//EN
BEGIN:VEVENT
SUMMARY:Oral Health Month
UID:46795
DTSTAMP:20260419T155200Z
DTSTART:20260421T133000Z
DTEND:20260421T160000Z
LOCATION:Central Library, One the Esplanade S, Pickering ON L1V 6K7, Canad
 a
ROOM: Central Lobby Outreach Table
DESCRIPTION:
URL:https://cal.pickeringlibrary.ca/event/oral-health-month-46795
END:VEVENT
END:VCALENDAR
