BEGIN:VCALENDAR
VERSION:2.0
PRODID:-//Library Market//iCal Export//EN
BEGIN:VEVENT
SUMMARY:Assaulted Women&#039;s Helpline (AWHL)
UID:46793
DTSTAMP:20260420T080700Z
DTSTART:20260506T180000Z
DTEND:20260506T200000Z
LOCATION:George Ashe Library, 470 Kingston Road, Pickering ON L1V 1A4, Can
 ada
ROOM: George Ashe Lobby
DESCRIPTION:
URL:https://cal.pickeringlibrary.ca/event/assaulted-womens-helpline-awhl-4
 6793
END:VEVENT
END:VCALENDAR
