BEGIN:VCALENDAR
VERSION:2.0
PRODID:-//Library Market//iCal Export//EN
BEGIN:VEVENT
SUMMARY:Assaulted Women&#039;s Helpline (AWHL)
UID:46791
DTSTAMP:20260420T080700Z
DTSTART:20260507T170000Z
DTEND:20260507T190000Z
LOCATION:Central Library, One the Esplanade S, Pickering ON L1V 6K7, Canad
 a
ROOM: Central Lobby Outreach Table
DESCRIPTION:
URL:https://cal.pickeringlibrary.ca/event/assaulted-womens-helpline-awhl-4
 6791
END:VEVENT
END:VCALENDAR
