BEGIN:VCALENDAR
VERSION:2.0
PRODID:-//Library Market//iCal Export//EN
BEGIN:VEVENT
SUMMARY:World Cup Buttons! (5-12 yrs)
UID:46606
DTSTAMP:20260420T080700Z
DTSTART:20260611T213000Z
DTEND:20260611T223000Z
LOCATION:Central Library, One the Esplanade S, Pickering ON L1V 6K7, Canad
 a
ROOM: Central Storytime Area
DESCRIPTION:The World Cup is almost here! Whether you call it fútbol, soc
 cer, or footy, drop in and make a button to support one of the 48 teams he
 ading into the tournament. 
URL:https://cal.pickeringlibrary.ca/event/world-cup-buttons-46606
END:VEVENT
END:VCALENDAR
