BEGIN:VCALENDAR
VERSION:2.0
PRODID:-//Library Market//iCal Export//EN
BEGIN:VEVENT
SUMMARY:AI vs. Reality: Can You Tell the Difference?
UID:46219
DTSTAMP:20260420T091900Z
DTSTART:20260515T133000Z
DTEND:20260516T010000Z
LOCATION:Central Library, One the Esplanade S, Pickering ON L1V 6K7, Canad
 a
ROOM: Maker Space - Common Area
DESCRIPTION:AI is a great creative tool, but only when we know what we&#03
 9;re looking at. Test your eye at the Maker Space&#039;s AI vs. Reality di
 splay by guessing whether each image is AI-generated or real. Circle your 
 answers and leave your email (optional) to receive your results and stats 
 on how the rest of the community guessed! You will also receive detailed t
 ips on spotting AI images and information about our upcoming AI programs.Â
  
URL:https://cal.pickeringlibrary.ca/event/copy-ai-vs-reality-can-you-tell-
 difference-46219
END:VEVENT
END:VCALENDAR
